View In:
ArcGIS JavaScript
ArcGIS Online Map Viewer
ArcGIS Earth
ArcGIS Pro
Service Description: July 4th road closures and points of interest. Cached service.
Map Name: Layers
Legend
All Layers and Tables
Layers:
Description:
Service Item Id: 39f565c5d6fe4935a06482a49ea7f6e7
Copyright Text:
Spatial Reference:
102100
(3857)
Single Fused Map Cache: true
Tile Info:
- Height: 256
- Width: 256
- DPI: 96
-
Levels of Detail: 20
-
Level ID: 1
[ Start Tile, End Tile ]
- Resolution: 78271.5169639999
- Scale: 2.95828763795777E8
-
Level ID: 2
[ Start Tile, End Tile ]
- Resolution: 39135.7584820001
- Scale: 1.47914381897889E8
-
Level ID: 3
[ Start Tile, End Tile ]
- Resolution: 19567.8792409999
- Scale: 7.3957190948944E7
-
Level ID: 4
[ Start Tile, End Tile ]
- Resolution: 9783.93962049996
- Scale: 3.6978595474472E7
-
Level ID: 5
[ Start Tile, End Tile ]
- Resolution: 4891.96981024998
- Scale: 1.8489297737236E7
- Format: PNG
- Compression Quality: 0.0
- Origin: X: -2.0037508342787E7
Y: 2.0037508342787E7
- Spatial Reference: 102100
(3857)
Storage Info:
- Storage Format: esriMapCacheStorageModeCompactV2
- Packet Size: 128
Initial Extent:
XMin: -8557074.740590844
YMin: 4734721.633617646
XMax: -8554892.056100521
YMax: 4735579.684304112
Spatial Reference: 102100
(3857)
Full Extent:
XMin: -8563934.918801315
YMin: 4727326.628214238
XMax: -8551205.571354698
YMax: 4740503.859443363
Spatial Reference: 102100
(3857)
Units: esriMeters
Supported Image Format Types: PNG32,PNG24,PNG,JPG,DIB,TIFF,EMF,PS,PDF,GIF,SVG,SVGZ,BMP
Document Info:
Title: Core Basemap for TERP
Author: Theresa Martin
Comments: Building layer and city boundary
Subject: Building layer and city boundary
Category:
Keywords: July 4th,Road Closures,Parade,Festival,Service,cached
AntialiasingMode: None
TextAntialiasingMode: Force
Supports Dynamic Layers: false
MaxRecordCount: 1000
MaxImageHeight: 4096
MaxImageWidth: 4096
Supported Query Formats: JSON, geoJSON, PBF
Supports Query Data Elements: true
Min Scale: 36111.909643
Max Scale: 1128.497176
Supports Datum Transformation: true
Child Resources:
Info
Supported Operations:
Export Map
Identify
QueryLegends
QueryDomains
Find
Return Updates
Generate KML